BEGIN:VCALENDAR
VERSION:2.0
PRODID:-//eventon.com NONSGML v1.0//EN
CALSCALE:GREGORIAN
METHOD:PUBLISH
BEGIN:VEVENT
UID:69e4e48f4f81f
DTSTAMP:20260419T141959Z
DTSTART:20220715T093000Z
DTEND:20220715T160000Z
LOCATION:DAKAR SENEGAL
SUMMARY:Comité de pilotage RACEE
DESCRIPTION:Comité de pilotage RACEE\nhttps://ancee-racee.org/agenda/comit
 e-de-pilotage-racee/
URL:https://ancee-racee.org/agenda/comite-de-pilotage-racee/
END:VEVENT
END:VCALENDAR